BEGIN:VCALENDAR
VERSION:2.0
PRODID:-//Tukios.com/
BEGIN:VEVENT
UID:f3500ecc-7e8c-4ba6-8d73-207de73f0b01@www.marshallandmarshallfd.com
DTSTAMP:20260421T170726Z
DTSTART:20260428T160000Z
DTEND:20260428T170000Z
SUMMARY:Graveside Service
DESCRIPTION:
URL:https://www.marshallandmarshallfd.com/obituaries/janice-jones
LOCATION:  South Wall Street  Itasca TX 76055
GEO:32.1551137;-97.1503333
END:VEVENT
END:VCALENDAR