BEGIN:VCALENDAR
VERSION:2.0
PRODID:-//Tukios.com/
BEGIN:VEVENT
UID:d111fe25-cbb5-459a-b678-6f8394d86b62@www.marshallandmarshallfd.com
DTSTAMP:20260422T235144Z
DTSTART:20260428T160000Z
DTEND:20260428T170000Z
SUMMARY:Celebration of Life
DESCRIPTION:
URL:https://www.marshallandmarshallfd.com/obituaries/randall-wood
LOCATION: 582 Farm to Market 1713  Whitney TX 76692
GEO:31.9623858;-97.3768959
END:VEVENT
END:VCALENDAR